BEGIN:VCALENDAR
VERSION:2.0
PRODID:-//Laura Escuela - ECPv5.3.0//NONSGML v1.0//EN
CALSCALE:GREGORIAN
METHOD:PUBLISH
X-WR-CALNAME:Laura Escuela
X-ORIGINAL-URL:https://lauraescuela.com
X-WR-CALDESC:Eventos para Laura Escuela
BEGIN:VTIMEZONE
TZID:UTC
BEGIN:STANDARD
TZOFFSETFROM:+0000
TZOFFSETTO:+0000
TZNAME:UTC
DTSTART:20200101T000000
END:STANDARD
END:VTIMEZONE
BEGIN:VEVENT
DTSTART;TZID=UTC:20201002T180000
DTEND;TZID=UTC:20201002T190000
DTSTAMP:20260420T173754
CREATED:20200920T111311Z
LAST-MODIFIED:20200920T111313Z
UID:3407-1601661600-1601665200@lauraescuela.com
SUMMARY:Story Time (Pr) Los Cristianos
DESCRIPTION:Sesión presencial de cuentos en inglés para público familiar en Los Cristianos\, Arona. \n\n\n\nInscripciones abiertas\, toda la información en el cartel.
URL:https://lauraescuela.com/agenda/story-time-pr-los-cristianos/
ATTACH;FMTTYPE=image/png:https://lauraescuela.com/wp-content/uploads/2020/09/Colorido-Huellas-de-Manos-Niños-Cita-Educación-Póster-1-1.png
END:VEVENT
END:VCALENDAR