BEGIN:VCALENDAR
VERSION:2.0
PRODID:-//Laura Escuela - ECPv5.3.0//NONSGML v1.0//EN
CALSCALE:GREGORIAN
METHOD:PUBLISH
X-WR-CALNAME:Laura Escuela
X-ORIGINAL-URL:https://lauraescuela.com
X-WR-CALDESC:Eventos para Laura Escuela
BEGIN:VTIMEZONE
TZID:UTC
BEGIN:STANDARD
TZOFFSETFROM:+0000
TZOFFSETTO:+0000
TZNAME:UTC
DTSTART:20230101T000000
END:STANDARD
END:VTIMEZONE
BEGIN:VEVENT
DTSTART;TZID=UTC:20230428T173000
DTEND;TZID=UTC:20230428T181500
DTSTAMP:20260420T141027
CREATED:20230330T190424Z
LAST-MODIFIED:20230412T095429Z
UID:4998-1682703000-1682705700@lauraescuela.com
SUMMARY:Story Time TEA
DESCRIPTION:Sesión de cuentos en inglés en la Biblioteca Municipal Central (TEA) para mayores de 3 años.  No se requiere inscripción.
URL:https://lauraescuela.com/agenda/story-time-tea/
LOCATION:Biblioteca Municipal Central (TEA)\, Fuente Morales\, s/n\, Santa Cruz de Tenerife\, 38003\, España
ATTACH;FMTTYPE=image/jpeg:https://lauraescuela.com/wp-content/uploads/2023/04/Story-time-abril-central.jpg
END:VEVENT
END:VCALENDAR