BEGIN:VCALENDAR
VERSION:2.0
PRODID:-//Laura Escuela - ECPv5.3.0//NONSGML v1.0//EN
CALSCALE:GREGORIAN
METHOD:PUBLISH
X-WR-CALNAME:Laura Escuela
X-ORIGINAL-URL:https://lauraescuela.com
X-WR-CALDESC:Eventos para Laura Escuela
BEGIN:VTIMEZONE
TZID:UTC
BEGIN:STANDARD
TZOFFSETFROM:+0000
TZOFFSETTO:+0000
TZNAME:UTC
DTSTART:20200101T000000
END:STANDARD
END:VTIMEZONE
BEGIN:VEVENT
DTSTART;TZID=UTC:20200611T110000
DTEND;TZID=UTC:20200611T120000
DTSTAMP:20260419T145656
CREATED:20200529T171219Z
LAST-MODIFIED:20200601T075112Z
UID:3300-1591873200-1591876800@lauraescuela.com
SUMMARY:Taller Contar en el aula de infantil
DESCRIPTION:Taller (online a través de WEBEX) dirigido a alumnado de Formación profesional en Educación Infantil.
URL:https://lauraescuela.com/agenda/taller-contar-en-el-aula-de-infantil/
ATTACH;FMTTYPE=image/jpeg:https://lauraescuela.com/wp-content/uploads/2020/06/IMG-20200528-WA0047.jpg
END:VEVENT
END:VCALENDAR