BEGIN:VCALENDAR
VERSION:2.0
PRODID:-//Laura Escuela - ECPv5.3.0//NONSGML v1.0//EN
CALSCALE:GREGORIAN
METHOD:PUBLISH
X-WR-CALNAME:Laura Escuela
X-ORIGINAL-URL:https://lauraescuela.com
X-WR-CALDESC:Eventos para Laura Escuela
BEGIN:VTIMEZONE
TZID:UTC
BEGIN:STANDARD
TZOFFSETFROM:+0000
TZOFFSETTO:+0000
TZNAME:UTC
DTSTART:20250101T000000
END:STANDARD
END:VTIMEZONE
BEGIN:VEVENT
DTSTART;TZID=UTC:20250208T080000
DTEND;TZID=UTC:20250208T170000
DTSTAMP:20260422T065902
CREATED:20250202T204132Z
LAST-MODIFIED:20250202T204133Z
UID:5677-1739001600-1739034000@lauraescuela.com
SUMMARY:Taller CONTAR LA MUERTE
DESCRIPTION:https://aliwakhanda.sellfy.store/p/encuentros-multidisciplinares-laura-escuela/
URL:https://lauraescuela.com/agenda/taller-contar-la-muerte/
END:VEVENT
END:VCALENDAR