BEGIN:VCALENDAR
VERSION:2.0
PRODID:-//Laura Escuela - ECPv5.3.0//NONSGML v1.0//EN
CALSCALE:GREGORIAN
METHOD:PUBLISH
X-WR-CALNAME:Laura Escuela
X-ORIGINAL-URL:https://lauraescuela.com
X-WR-CALDESC:Eventos para Laura Escuela
BEGIN:VTIMEZONE
TZID:UTC
BEGIN:STANDARD
TZOFFSETFROM:+0000
TZOFFSETTO:+0000
TZNAME:UTC
DTSTART:20260101T000000
END:STANDARD
END:VTIMEZONE
BEGIN:VEVENT
DTSTART;TZID=UTC:20260313T173000
DTEND;TZID=UTC:20260313T173000
DTSTAMP:20260421T114725
CREATED:20260226T173051Z
LAST-MODIFIED:20260226T173054Z
UID:5899-1773423000-1773423000@lauraescuela.com
SUMMARY:Taller Cuando la muerte vino a nuestra casa. TEA.
DESCRIPTION:
URL:https://lauraescuela.com/agenda/taller-cuando-la-muerte-vino-a-nuestra-casa-tea-2/
END:VEVENT
END:VCALENDAR