BEGIN:VCALENDAR
VERSION:2.0
PRODID:-//Laura Escuela - ECPv5.3.0//NONSGML v1.0//EN
CALSCALE:GREGORIAN
METHOD:PUBLISH
X-WR-CALNAME:Laura Escuela
X-ORIGINAL-URL:https://lauraescuela.com
X-WR-CALDESC:Eventos para Laura Escuela
BEGIN:VTIMEZONE
TZID:UTC
BEGIN:STANDARD
TZOFFSETFROM:+0000
TZOFFSETTO:+0000
TZNAME:UTC
DTSTART:20200101T000000
END:STANDARD
END:VTIMEZONE
BEGIN:VEVENT
DTSTART;TZID=UTC:20200303T100000
DTEND;TZID=UTC:20200303T110000
DTSTAMP:20260423T121839
CREATED:20200223T191659Z
LAST-MODIFIED:20200223T191700Z
UID:3202-1583229600-1583233200@lauraescuela.com
SUMMARY:Taller "Narrar a bebés"
DESCRIPTION:Taller dirigido a alumnado del Ciclo de Educación Infantil 0-3 del IES María Rosa Alonso.
URL:https://lauraescuela.com/agenda/taller-narrar-a-bebes/
END:VEVENT
END:VCALENDAR