BEGIN:VCALENDAR
VERSION:2.0
PRODID:-//Laura Escuela - ECPv5.3.0//NONSGML v1.0//EN
CALSCALE:GREGORIAN
METHOD:PUBLISH
X-WR-CALNAME:Laura Escuela
X-ORIGINAL-URL:https://lauraescuela.com
X-WR-CALDESC:Eventos para Laura Escuela
BEGIN:VTIMEZONE
TZID:UTC
BEGIN:STANDARD
TZOFFSETFROM:+0000
TZOFFSETTO:+0000
TZNAME:UTC
DTSTART:20250101T000000
END:STANDARD
END:VTIMEZONE
BEGIN:VEVENT
DTSTART;TZID=UTC:20251019T163000
DTEND;TZID=UTC:20251019T163000
DTSTAMP:20260423T170154
CREATED:20251008T112347Z
LAST-MODIFIED:20251008T112349Z
UID:5805-1760891400-1760891400@lauraescuela.com
SUMMARY:Taller online CONTAR LA MUERTE
DESCRIPTION:INSCRIPCIONES RELLENANDO ESTE FORMULARIO
URL:https://lauraescuela.com/agenda/taller-online-contar-la-muerte/
END:VEVENT
END:VCALENDAR