BEGIN:VCALENDAR
VERSION:2.0
PRODID:-//Laura Escuela - ECPv5.3.0//NONSGML v1.0//EN
CALSCALE:GREGORIAN
METHOD:PUBLISH
X-WR-CALNAME:Laura Escuela
X-ORIGINAL-URL:https://lauraescuela.com
X-WR-CALDESC:Eventos para Laura Escuela
BEGIN:VTIMEZONE
TZID:UTC
BEGIN:STANDARD
TZOFFSETFROM:+0000
TZOFFSETTO:+0000
TZNAME:UTC
DTSTART:20200101T000000
END:STANDARD
END:VTIMEZONE
BEGIN:VEVENT
DTSTART;TZID=UTC:20201205T080000
DTEND;TZID=UTC:20201205T170000
DTSTAMP:20260424T122635
CREATED:20201205T120914Z
LAST-MODIFIED:20201130T120936Z
UID:3546-1607155200-1607187600@lauraescuela.com
SUMMARY:Taller online CONTAR PARA BEBÉS
DESCRIPTION:
URL:https://lauraescuela.com/agenda/taller-online-contar-para-bebes/
ATTACH;FMTTYPE=image/png:https://lauraescuela.com/wp-content/uploads/2020/11/unnamed-3.png
END:VEVENT
END:VCALENDAR