BEGIN:VCALENDAR
VERSION:2.0
PRODID:-//Laura Escuela - ECPv5.3.0//NONSGML v1.0//EN
CALSCALE:GREGORIAN
METHOD:PUBLISH
X-WR-CALNAME:Laura Escuela
X-ORIGINAL-URL:https://lauraescuela.com
X-WR-CALDESC:Eventos para Laura Escuela
BEGIN:VTIMEZONE
TZID:UTC
BEGIN:STANDARD
TZOFFSETFROM:+0000
TZOFFSETTO:+0000
TZNAME:UTC
DTSTART:20190101T000000
END:STANDARD
END:VTIMEZONE
BEGIN:VEVENT
DTSTART;TZID=UTC:20191216T100000
DTEND;TZID=UTC:20191216T230000
DTSTAMP:20260420T211747
CREATED:20191127T140524Z
LAST-MODIFIED:20191127T140802Z
UID:2994-1576490400-1576537200@lauraescuela.com
SUMMARY:Teatro en la escuela
DESCRIPTION:Espectáculo “EN EL BOSQUE” a través del programa TEATRO EN LA ESCUELA del Auditorio de Tenerife con la compañía Contando Ando.  \n\n\n\nCEO Andrés Orozco\, para Educación Infantil
URL:https://lauraescuela.com/agenda/teatro-en-la-escuela-3/
END:VEVENT
END:VCALENDAR