BEGIN:VCALENDAR
VERSION:2.0
PRODID:-//Laura Escuela - ECPv5.3.0//NONSGML v1.0//EN
CALSCALE:GREGORIAN
METHOD:PUBLISH
X-WR-CALNAME:Laura Escuela
X-ORIGINAL-URL:https://lauraescuela.com
X-WR-CALDESC:Eventos para Laura Escuela
BEGIN:VTIMEZONE
TZID:UTC
BEGIN:STANDARD
TZOFFSETFROM:+0000
TZOFFSETTO:+0000
TZNAME:UTC
DTSTART:20200101T000000
END:STANDARD
END:VTIMEZONE
BEGIN:VEVENT
DTSTART;TZID=UTC:20200310T080000
DTEND;TZID=UTC:20200310T170000
DTSTAMP:20260419T223203
CREATED:20200223T192837Z
LAST-MODIFIED:20200223T192838Z
UID:3214-1583827200-1583859600@lauraescuela.com
SUMMARY:Teatro en la escuela: EN EL BOSQUE
DESCRIPTION:Función del espectáculo para Educación Infantil del CEIP CHAYOFA “En el bosque” con la Compañía Contando Ando.
URL:https://lauraescuela.com/agenda/teatro-en-la-escuela-en-el-bosque/
END:VEVENT
END:VCALENDAR