BEGIN:VCALENDAR
VERSION:2.0
PRODID:-//Laura Escuela - ECPv5.3.0//NONSGML v1.0//EN
CALSCALE:GREGORIAN
METHOD:PUBLISH
X-WR-CALNAME:Laura Escuela
X-ORIGINAL-URL:https://lauraescuela.com
X-WR-CALDESC:Eventos para Laura Escuela
BEGIN:VTIMEZONE
TZID:UTC
BEGIN:STANDARD
TZOFFSETFROM:+0000
TZOFFSETTO:+0000
TZNAME:UTC
DTSTART:20250101T000000
END:STANDARD
END:VTIMEZONE
BEGIN:VEVENT
DTSTART;TZID=UTC:20250410T080000
DTEND;TZID=UTC:20250410T170000
DTSTAMP:20260424T015231
CREATED:20250327T122310Z
LAST-MODIFIED:20250327T122312Z
UID:5705-1744272000-1744304400@lauraescuela.com
SUMMARY:The brave squirrel en CEIP Camino Largo
DESCRIPTION:
URL:https://lauraescuela.com/agenda/the-brave-squirrel-en-ceip-camino-largo/
END:VEVENT
END:VCALENDAR