BEGIN:VCALENDAR
VERSION:2.0
PRODID:-//Laura Escuela - ECPv5.3.0//NONSGML v1.0//EN
CALSCALE:GREGORIAN
METHOD:PUBLISH
X-WR-CALNAME:Laura Escuela
X-ORIGINAL-URL:https://lauraescuela.com
X-WR-CALDESC:Eventos para Laura Escuela
BEGIN:VTIMEZONE
TZID:UTC
BEGIN:STANDARD
TZOFFSETFROM:+0000
TZOFFSETTO:+0000
TZNAME:UTC
DTSTART:20250101T000000
END:STANDARD
END:VTIMEZONE
BEGIN:VEVENT
DTSTART;TZID=UTC:20250123T080000
DTEND;TZID=UTC:20250123T170000
DTSTAMP:20260422T001524
CREATED:20250107T205135Z
LAST-MODIFIED:20250107T205136Z
UID:5659-1737619200-1737651600@lauraescuela.com
SUMMARY:The brave squirrel en CEIP Virgen de Fátima
DESCRIPTION:ESPECTÁCULO THE BRAVE SQUIRREL EN CEIP VIRGEN DE FÁTIMA\, ARICO\, DE LA MANO DE TEATRO EN LA ESCUELA\, AUDITORIO DE TENERIFE
URL:https://lauraescuela.com/agenda/the-brave-squirrel-en-ceip-virgen-de-fatima/
END:VEVENT
END:VCALENDAR