BEGIN:VCALENDAR
VERSION:2.0
PRODID:-//Laura Escuela - ECPv5.3.0//NONSGML v1.0//EN
CALSCALE:GREGORIAN
METHOD:PUBLISH
X-WR-CALNAME:Laura Escuela
X-ORIGINAL-URL:https://lauraescuela.com
X-WR-CALDESC:Eventos para Laura Escuela
BEGIN:VTIMEZONE
TZID:UTC
BEGIN:STANDARD
TZOFFSETFROM:+0000
TZOFFSETTO:+0000
TZNAME:UTC
DTSTART:20240101T000000
END:STANDARD
END:VTIMEZONE
BEGIN:VEVENT
DTSTART;TZID=UTC:20241126T080000
DTEND;TZID=UTC:20241126T170000
DTSTAMP:20260421T144323
CREATED:20241027T182514Z
LAST-MODIFIED:20241027T182516Z
UID:5645-1732608000-1732640400@lauraescuela.com
SUMMARY:The brave Squirrel on tour
DESCRIPTION:Espectáculo de cuentos\, ilustración y música en inglés “THE BRAVE SQUIRREL” en el CEIP CLORINDA SALAZAR en el marco del proyecto “TEATRO EN LA ESCUELA” del Auditorio de Tenerife
URL:https://lauraescuela.com/agenda/the-brave-squirrel-on-tour-2/
END:VEVENT
END:VCALENDAR