BEGIN:VCALENDAR
VERSION:2.0
PRODID:-//Laura Escuela - ECPv5.3.0//NONSGML v1.0//EN
CALSCALE:GREGORIAN
METHOD:PUBLISH
X-WR-CALNAME:Laura Escuela
X-ORIGINAL-URL:https://lauraescuela.com
X-WR-CALDESC:Eventos para Laura Escuela
BEGIN:VTIMEZONE
TZID:UTC
BEGIN:STANDARD
TZOFFSETFROM:+0000
TZOFFSETTO:+0000
TZNAME:UTC
DTSTART:20240101T000000
END:STANDARD
END:VTIMEZONE
BEGIN:VEVENT
DTSTART;TZID=UTC:20240311T080000
DTEND;TZID=UTC:20240312T170000
DTSTAMP:20260421T122327
CREATED:20240225T182933Z
LAST-MODIFIED:20240225T182939Z
UID:5392-1710144000-1710262800@lauraescuela.com
SUMMARY:The brave squirrel para escolares
DESCRIPTION:Brave Squirrel
URL:https://lauraescuela.com/agenda/the-brave-squirrel-para-escolares/
END:VEVENT
END:VCALENDAR