BEGIN:VCALENDAR
VERSION:2.0
PRODID:-//Laura Escuela - ECPv5.3.0//NONSGML v1.0//EN
CALSCALE:GREGORIAN
METHOD:PUBLISH
X-WR-CALNAME:Laura Escuela
X-ORIGINAL-URL:https://lauraescuela.com
X-WR-CALDESC:Eventos para Laura Escuela
BEGIN:VTIMEZONE
TZID:UTC
BEGIN:STANDARD
TZOFFSETFROM:+0000
TZOFFSETTO:+0000
TZNAME:UTC
DTSTART:20250101T000000
END:STANDARD
END:VTIMEZONE
BEGIN:VEVENT
DTSTART;TZID=UTC:20251107T080000
DTEND;TZID=UTC:20251107T170000
DTSTAMP:20260423T153019
CREATED:20251031T130150Z
LAST-MODIFIED:20251031T130152Z
UID:5817-1762502400-1762534800@lauraescuela.com
SUMMARY:"Un finaos de muerte"
DESCRIPTION:Sesiones escolares en el CEIP PRÍNCIPE FELIPE.
URL:https://lauraescuela.com/agenda/un-finaos-de-muerte/
END:VEVENT
END:VCALENDAR